BEGIN:VCALENDAR
VERSION:2.0
PRODID:-//CATHERINE DESCHAMPS - ECPv4.9.4//NONSGML v1.0//EN
CALSCALE:GREGORIAN
METHOD:PUBLISH
X-WR-CALNAME:CATHERINE DESCHAMPS
X-ORIGINAL-URL:http://catherinedeschamps.lu
X-WR-CALDESC:Évènements pour CATHERINE DESCHAMPS
BEGIN:VTIMEZONE
TZID:"Europe/Paris"
BEGIN:DAYLIGHT
TZOFFSETFROM:+0100
TZOFFSETTO:+0200
TZNAME:CEST
DTSTART:20190331T010000
END:DAYLIGHT
BEGIN:STANDARD
TZOFFSETFROM:+0200
TZOFFSETTO:+0100
TZNAME:CET
DTSTART:20191027T010000
END:STANDARD
END:VTIMEZONE
BEGIN:VEVENT
DTSTART;TZID="Europe/Paris":20191103T140000
DTEND;TZID="Europe/Paris":20191103T153000
DTSTAMP:20260424T190656
CREATED:20190710T142927Z
LAST-MODIFIED:20190806T114308Z
UID:1471-1572789600-1572795000@catherinedeschamps.lu
SUMMARY:Atelier méditation
DESCRIPTION:Au cours de cette séance collective en position allongée\, nous allons nous laisser traverser\, en silence et en conscience\, par les énergies. Nous allons ressentir la détente et la paix en nous en toute simplicité. Chacun recevra précisément ce dont il a besoin. \nS’en suivra un échange au cours duquel je m’appuierai sur vos vécus respectifs pour rebondir sur l’une ou l’autre notion et aller plus loin dans le partage d’informations et d’outils pratiques\, pour vous permettre de poursuivre cette démarche d’évolution et de bien-être chez vous de manière autonome. \nCes séances de groupe sont aussi enrichissantes en ce sens qu’elles nous font prendre conscience que nous sommes tous reliés tant sur un plan horizontal que vertical. \nLa séance dure 90 minutes. \nTarif : 40 euros. \nSur inscription auprès de Catherine. \n
URL:http://catherinedeschamps.lu/event/atelier-en-groupe/
LOCATION:Studio B\, 74\, route de Longwy\, Bertrange\, 8080\, Luxembourg
CATEGORIES:Atelier méditation
ORGANIZER;CN="Catherine":MAILTO:cat.deschamps@vo.lu
END:VEVENT
END:VCALENDAR